BEGIN:VCALENDAR
VERSION:2.0
PRODID:-//Jarmark Spalski - ECPv6.10.0//NONSGML v1.0//EN
CALSCALE:GREGORIAN
METHOD:PUBLISH
X-WR-CALNAME:Jarmark Spalski
X-ORIGINAL-URL:https://jarmarkspalski.pl
X-WR-CALDESC:Events for Jarmark Spalski
REFRESH-INTERVAL;VALUE=DURATION:PT1H
X-Robots-Tag:noindex
X-PUBLISHED-TTL:PT1H
BEGIN:VTIMEZONE
TZID:UTC
BEGIN:STANDARD
TZOFFSETFROM:+0000
TZOFFSETTO:+0000
TZNAME:UTC
DTSTART:20260101T000000
END:STANDARD
END:VTIMEZONE
BEGIN:VEVENT
DTSTART;VALUE=DATE:20261004
DTEND;VALUE=DATE:20261005
DTSTAMP:20260421T215018
CREATED:20260421T163059Z
LAST-MODIFIED:20260421T163059Z
UID:62953-1791072000-1791158399@jarmarkspalski.pl
SUMMARY:Spalski Jarmark Antyków i Rękodzieła Ludowego
DESCRIPTION:
URL:https://jarmarkspalski.pl/wydarzenia/spalski-jarmark-antykow-i-rekodziela-ludowego-3/
END:VEVENT
BEGIN:VEVENT
DTSTART;VALUE=DATE:20260913
DTEND;VALUE=DATE:20260914
DTSTAMP:20260421T215018
CREATED:20260421T163011Z
LAST-MODIFIED:20260421T163011Z
UID:62951-1789257600-1789343999@jarmarkspalski.pl
SUMMARY:Spalski Jarmark Antyków i Rękodzieła Ludowego
DESCRIPTION:
URL:https://jarmarkspalski.pl/wydarzenia/spalski-jarmark-antykow-i-rekodziela-ludowego-2/
END:VEVENT
BEGIN:VEVENT
DTSTART;VALUE=DATE:20260809
DTEND;VALUE=DATE:20260810
DTSTAMP:20260421T215018
CREATED:20260421T162847Z
LAST-MODIFIED:20260421T162847Z
UID:62949-1786233600-1786319999@jarmarkspalski.pl
SUMMARY:Spalski Jarmark Antyków i Rękodzieła Ludowego
DESCRIPTION:
URL:https://jarmarkspalski.pl/wydarzenia/spalski-jarmark-antykow-i-rekodziela-ludowego/
END:VEVENT
BEGIN:VEVENT
DTSTART;VALUE=DATE:20260712
DTEND;VALUE=DATE:20260713
DTSTAMP:20260421T215018
CREATED:20260421T162244Z
LAST-MODIFIED:20260421T162715Z
UID:62945-1783814400-1783900799@jarmarkspalski.pl
SUMMARY:Spalski Jarmark Antyków i Rękodzieła Ludowego
DESCRIPTION:
URL:https://jarmarkspalski.pl/wydarzenia/jarmark-spalski-antykow-i-rekodziela-ludowego-2/
END:VEVENT
BEGIN:VEVENT
DTSTART;VALUE=DATE:20260614
DTEND;VALUE=DATE:20260615
DTSTAMP:20260421T215018
CREATED:20260421T162008Z
LAST-MODIFIED:20260421T162751Z
UID:62943-1781395200-1781481599@jarmarkspalski.pl
SUMMARY:Spalski Jarmark Antyków i Rękodzieła Ludowego
DESCRIPTION:
URL:https://jarmarkspalski.pl/wydarzenia/jarmark-spalski-antykow-i-rekodziela-ludowego/
CATEGORIES:Jarmark Spalski
END:VEVENT
END:VCALENDAR